BEGIN:VCALENDAR
VERSION:2.0
PRODID:-//Challenge en Care - ECPv6.15.20//NONSGML v1.0//EN
CALSCALE:GREGORIAN
METHOD:PUBLISH
X-WR-CALNAME:Challenge en Care
X-ORIGINAL-URL:https://www.challengecare.nl
X-WR-CALDESC:Evenementen voor Challenge en Care
REFRESH-INTERVAL;VALUE=DURATION:PT1H
X-Robots-Tag:noindex
X-PUBLISHED-TTL:PT1H
BEGIN:VTIMEZONE
TZID:Europe/Amsterdam
BEGIN:DAYLIGHT
TZOFFSETFROM:+0100
TZOFFSETTO:+0200
TZNAME:CEST
DTSTART:20240331T010000
END:DAYLIGHT
BEGIN:STANDARD
TZOFFSETFROM:+0200
TZOFFSETTO:+0100
TZNAME:CET
DTSTART:20241027T010000
END:STANDARD
BEGIN:DAYLIGHT
TZOFFSETFROM:+0100
TZOFFSETTO:+0200
TZNAME:CEST
DTSTART:20250330T010000
END:DAYLIGHT
BEGIN:STANDARD
TZOFFSETFROM:+0200
TZOFFSETTO:+0100
TZNAME:CET
DTSTART:20251026T010000
END:STANDARD
BEGIN:DAYLIGHT
TZOFFSETFROM:+0100
TZOFFSETTO:+0200
TZNAME:CEST
DTSTART:20260329T010000
END:DAYLIGHT
BEGIN:STANDARD
TZOFFSETFROM:+0200
TZOFFSETTO:+0100
TZNAME:CET
DTSTART:20261025T010000
END:STANDARD
END:VTIMEZONE
BEGIN:VEVENT
DTSTART;TZID=Europe/Amsterdam:20251004T100000
DTEND;TZID=Europe/Amsterdam:20251004T170000
DTSTAMP:20260420T144405
CREATED:20250910T111238Z
LAST-MODIFIED:20251001T095542Z
UID:8935-1759572000-1759597200@www.challengecare.nl
SUMMARY:GRATIS VERWENDAG BORSTKANKERMAAND 2025
DESCRIPTION:In het teken van oktober\, BORSTKANKERMAAND\, biedt Challenge&Care de hele dag GRATIS VERWENMOMENTEN aan ter kennismaking met Massage bij Kanker. \nMassage bij Kanker kan pijn\, angst\, stress en spanningen verminderen\, slaap bevorderen en ondersteunt zo het zelfherstellende vermogen. Ook zorgt het ervoor dat je een prettiger en beter contact met je lichaam ervaart voor\, na of tijdens de behandelingen en kan in elke fase van het ziekteproces worden toegepast. \nAangezien de wetenschappelijke onderzoeken en ervaringen veelbelovend zijn en daarom ook steeds meer gebruik wordt gemaakt van massage bij kanker\, willen we op deze speciale dag i onze eigen regio zoveel mogelijk mensen gratis en vrijblijvend kennis laten maken met deze bijzondere\, prettige vorm van massage\, die alleen toegepast mag en kan worden door Professionele en gespecialiseerde Massagetherapeuten. \nHet hele jaar kunnen mensen bij Challenge&Care terecht voor een kennismakingsmassage voor slechts € 25\, maar in het teken van de Borstkankermaand bieden we de massages als verwenmoment naar keuze de hele dag geheel gratis aan. \nJe kunt genieten van een gezichtsmassage\, voetmassage of een deel-/lichaamsmassage naar keuze. Na afloop ontvang je een kleine attentie om de verwennerij thuis nog lekker voort te zetten… \nNa je aanmelding ontvang je een digitale anamneselijst ter voorbereiding en wordt je in overleg ingepland\, zodat je op de dag zelf ongestoord kunt genieten van jouw verwenmoment. \nMet liefdevolle\, zorgzame groet\, \nBianca Coenen \n \nOncologie Massagetherapeute / Regio Coördinatrice Netwerk Massage bij Kanker ZUID (Limburg en Brabant) \nChallenge&Care \n  \nBoek hieronder snel jouw felbegeerde en welverdiende plekje\, of doe het iemand in je omgeving cadeau! \n  \nPS: heb je geen borstkanker\, maar een andere vorm van kanker\, meld je dan aan voor de verwendag op donderdag 16 oktober 2025\, de dag tegen kanker! \n         
URL:https://www.challengecare.nl/evenement/gratis-verwendag-borstkanker-2025/
LOCATION:Praktijk Challenge&Care\, Winkelweg 23A\, Posterholt\, Limburg\, 6061 AD\, Netherlands
ATTACH;FMTTYPE=image/jpeg:https://www.challengecare.nl/wp-content/uploads/2025/09/CC-Borstkanker-verwendag-2025-1.jpg
ORGANIZER;CN="Challenge&Care":MAILTO:challengecare@ziggo.nl
END:VEVENT
BEGIN:VEVENT
DTSTART;TZID=Europe/Amsterdam:20251016T100000
DTEND;TZID=Europe/Amsterdam:20251016T170000
DTSTAMP:20260420T144405
CREATED:20250910T115911Z
LAST-MODIFIED:20251025T184446Z
UID:8950-1760608800-1760634000@www.challengecare.nl
SUMMARY:Verwendag Dag tegen Kanker 2025
DESCRIPTION:In het teken van DE DAG TEGEN KANKER 2025\, biedt Challenge&Care de hele dag GRATIS VERWENMOMENTEN aan ter kennismaking met Massage bij Kanker. \nMassage bij Kanker kan pijn\, angst\, stress en spanningen verminderen\, slaap bevorderen en ondersteunt zo het zelfherstellende vermogen. Ook zorgt het ervoor dat je een prettiger en beter contact met je lichaam ervaart voor\, na of tijdens de behandelingen en kan in elke fase van het ziekteproces worden toegepast. \nAangezien de wetenschappelijke onderzoeken en ervaringen veelbelovend zijn en daarom ook steeds meer gebruik wordt gemaakt van massage bij kanker\, willen we op deze speciale dag i onze eigen regio zoveel mogelijk mensen gratis en vrijblijvend kennis laten maken met deze bijzondere\, prettige vorm van massage\, die alleen toegepast mag en kan worden door Professionele en gespecialiseerde Massagetherapeuten. \nHet hele jaar kunnen mensen bij Challenge&Care terecht voor een kennismakingsmassage voor slechts € 25\, maar in het teken van De dag tegen Kanker bieden we de massages als verwenmoment naar keuze de hele dag geheel gratis aan. \nJe kunt genieten van een gezichtsmassage\, voetmassage of een deel-/lichaamsmassage naar keuze. Na afloop ontvang je een kleine attentie om de verwennerij thuis nog lekker voort te zetten… \nNa je aanmelding ontvang je een digitale anamneselijst ter voorbereiding en wordt je in overleg ingepland\, zodat je op de dag zelf ongestoord kunt genieten van jouw verwenmoment. \nMet liefdevolle\, zorgzame groet\, \nBianca Coenen \n \nOncologie Massagetherapeute / Regio Coördinatrice Netwerk Massage bij Kanker ZUID (Limburg en Brabant) \nChallenge&Care \n  \nBoek hieronder snel jouw felbegeerde en welverdiende plekje\, of doe het iemand in je omgeving cadeau! \n  \nPS: heb je borstkanker\, meld je dan aan voor de verwendag voor borstkanker op zaterdag 4 oktober 2025! \n         
URL:https://www.challengecare.nl/evenement/verwendag-dag-tegen-kanker-2025/
LOCATION:Praktijk Challenge&Care\, Winkelweg 23A\, Posterholt\, Limburg\, 6061 AD\, Netherlands
ATTACH;FMTTYPE=image/jpeg:https://www.challengecare.nl/wp-content/uploads/2025/09/CC-Dag-tegen-kanker-2025-1.jpg
END:VEVENT
END:VCALENDAR