BEGIN:VCALENDAR
VERSION:2.0
PRODID:-//Challenge en Care - ECPv6.15.20//NONSGML v1.0//EN
CALSCALE:GREGORIAN
METHOD:PUBLISH
X-ORIGINAL-URL:https://www.challengecare.nl
X-WR-CALDESC:Evenementen voor Challenge en Care
REFRESH-INTERVAL;VALUE=DURATION:PT1H
X-Robots-Tag:noindex
X-PUBLISHED-TTL:PT1H
BEGIN:VTIMEZONE
TZID:Europe/Amsterdam
BEGIN:DAYLIGHT
TZOFFSETFROM:+0100
TZOFFSETTO:+0200
TZNAME:CEST
DTSTART:20240331T010000
END:DAYLIGHT
BEGIN:STANDARD
TZOFFSETFROM:+0200
TZOFFSETTO:+0100
TZNAME:CET
DTSTART:20241027T010000
END:STANDARD
BEGIN:DAYLIGHT
TZOFFSETFROM:+0100
TZOFFSETTO:+0200
TZNAME:CEST
DTSTART:20250330T010000
END:DAYLIGHT
BEGIN:STANDARD
TZOFFSETFROM:+0200
TZOFFSETTO:+0100
TZNAME:CET
DTSTART:20251026T010000
END:STANDARD
BEGIN:DAYLIGHT
TZOFFSETFROM:+0100
TZOFFSETTO:+0200
TZNAME:CEST
DTSTART:20260329T010000
END:DAYLIGHT
BEGIN:STANDARD
TZOFFSETFROM:+0200
TZOFFSETTO:+0100
TZNAME:CET
DTSTART:20261025T010000
END:STANDARD
END:VTIMEZONE
BEGIN:VEVENT
DTSTART;TZID=Europe/Amsterdam:20250917T193000
DTEND;TZID=Europe/Amsterdam:20250917T210000
DTSTAMP:20260420T161558
CREATED:20240927T190749Z
LAST-MODIFIED:20250914T134341Z
UID:8053-1758137400-1758142800@www.challengecare.nl
SUMMARY:Info Avond NATUURLIJK FITTER met AYURVEDA * Woensdag 17 september 2025
DESCRIPTION:FITTER OP NATUURBASIS!!\n80-90% van alle mensen zoekt naar alternatieve zorg ter preventie of complementair als aanvulling op hun reguliere zorg. Ayurveda biedt ontelbare\, betrouwbare mogelijkheden om op natuurbasis een essentiële bijdrage te leveren aan jouw gezondheid en geluk. Dus wil jij je fitter (en lichter) voelen en weten wat je allemaal zelf op natuurlijke basis aan je gezondheid en geluk kunt verbeteren? Kom dan zéker naar deze INTERESSANTE\, LEERZAME\, GRATIS INFO AVOND over AYURVEDA!\nTijdens deze uiterst gezellige en hoogst informatieve avond ontvang je onder het genot van een verantwoord hapje en drankje een antwoord op de volgende vragen: \n Wat kan ik met Ayurveda aan mijn klacht(en) doen?\n Kan ik met Ayurveda (snel) op een gezond gewicht komen?\n Wat kan Ayurveda voor mijn gezondheid en geluk betekenen?\n Wat kan ik zelf thuis met Ayurveda doen?\n Waar komt Ayurveda vandaan?\n Is Ayurveda ook (iets) voor mij? \nInvesteer nog dit jaar in je gezondheid en stel het niet langer uit! Maak/hou dat uurtje even vrij en meld je direct gratis en geheel vrijblijvend aan voor deze van A tot Z interessante en inspirerende info avond in de juiste sfeer\, waar je onder het genot van bijpassende\, heerlijke Ayurvedische thee\, biologische koffie of verfrissende drank met wat lekkers volledig geïnformeerd wordt over de ins\, outs en mogelijkheden van de Ayurveda\, een door de WHO (Wereldgezondheidsorganisatie) erkende vorm van natuurgeneeskunde\, ook wel de eeuwenoude levenswijsheid voor gezondheid en geluk genoemd. Daarmee leg je een goede basis voor de rest van je leven. \nMochten er aan het einde van de presentatie die er deze avond gegeven wordt toch nog vragen zijn\, dan kun je deze achteraf in de groep of aansluitend ook nog persoonlijk stellen. \nAfsluitend kun je als je wil een kijkje nemen in onze praktijkruimte\, als je daar nog nooit geweest bent en ontvang je een leuke constitutietest voor thuis om je persoonlijke Ayurvedische doshatype mee te bepalen (meer info hierover ontvang je tijdens de info avond). \nJe bent van harte welkom!\nSamen komen is altijd gezellig en leuk. Meld je wel (beiden) even aan\, zodat we weten dat er genoeg ruimte is voor iedereen en we de spijs en drank kunnen voorbereiden. \nBij voorbaat dank! \n. \nDit is het programma van de avond:\nInloop: vanaf 19:15u\nStart: vanaf 19:30u\nVragenronde: ca 20:30u\nAfronding/nakletsen: ca 20:45u\nDeuren sluiten: 21:00u \nMet hartelijke groet\,\nNamaskar \n \nBianca Coenen\nAyurveda (Massage) Therapeute / Life(style) Coach / Voedingsdeskundige / Trainer\nChallenge&Care \nPS: Heb je vragen vooraf? Stel ze gerust! Stuur ze per mail naar challengecare@ziggo.nl of bel (088) 505 55 50. \nPPS: Onze ruimte is rolstoelvriendelijk! \nTot gauw!
URL:https://www.challengecare.nl/evenement/info-avond-ayurveda-woensdag-17-september-2025/
LOCATION:Groepsruimte Praktijk Challenge&Care\, Winkelweg 23A\, POSTERHOLT\, 6061 AD\, Nederland
ATTACH;FMTTYPE=image/jpeg:https://www.challengecare.nl/wp-content/uploads/2024/09/CC-FB-Info-avond-Ayurveda.jpg
END:VEVENT
END:VCALENDAR