BEGIN:VCALENDAR
VERSION:2.0
PRODID:-//Challenge en Care - ECPv6.15.20//NONSGML v1.0//EN
CALSCALE:GREGORIAN
METHOD:PUBLISH
X-WR-CALNAME:Challenge en Care
X-ORIGINAL-URL:https://www.challengecare.nl
X-WR-CALDESC:Evenementen voor Challenge en Care
REFRESH-INTERVAL;VALUE=DURATION:PT1H
X-Robots-Tag:noindex
X-PUBLISHED-TTL:PT1H
BEGIN:VTIMEZONE
TZID:Europe/Amsterdam
BEGIN:DAYLIGHT
TZOFFSETFROM:+0100
TZOFFSETTO:+0200
TZNAME:CEST
DTSTART:20230326T010000
END:DAYLIGHT
BEGIN:STANDARD
TZOFFSETFROM:+0200
TZOFFSETTO:+0100
TZNAME:CET
DTSTART:20231029T010000
END:STANDARD
BEGIN:DAYLIGHT
TZOFFSETFROM:+0100
TZOFFSETTO:+0200
TZNAME:CEST
DTSTART:20240331T010000
END:DAYLIGHT
BEGIN:STANDARD
TZOFFSETFROM:+0200
TZOFFSETTO:+0100
TZNAME:CET
DTSTART:20241027T010000
END:STANDARD
BEGIN:DAYLIGHT
TZOFFSETFROM:+0100
TZOFFSETTO:+0200
TZNAME:CEST
DTSTART:20250330T010000
END:DAYLIGHT
BEGIN:STANDARD
TZOFFSETFROM:+0200
TZOFFSETTO:+0100
TZNAME:CET
DTSTART:20251026T010000
END:STANDARD
END:VTIMEZONE
BEGIN:VEVENT
DTSTART;TZID=Europe/Amsterdam:20241207T100000
DTEND;TZID=Europe/Amsterdam:20241207T130000
DTSTAMP:20260421T061046
CREATED:20241123T201229Z
LAST-MODIFIED:20241206T204158Z
UID:8144-1733565600-1733576400@www.challengecare.nl
SUMMARY:Gratis Hardloop Clinic voor KiKa
DESCRIPTION:.\nKimberly Daane loopt de halve marathon op Texel voor KiKa 22 maart 2025!! Om haar en dit goede doel te steunen organiseren Yamato Karate Do Helmond\, oud Topsporter Peter Gerardts (Atletiek- en Conditietrainer & Topsport Coach) en ik (NGS Sportmasseuse\, Oncologisch Massagetherapeute\, Life(style) Coach & Trainer)\, samen met fanatieke kartrekster Kimberly op 7 DECEMBER A.S. een gratis hardlooop clinic!\nBlessurevrij lopen en persoonlijke feedback!\n\n\nTijdens deze gratis inspirerende hardloop clinic voor het goede doel leren we je bewust en blessurevrij te lopen\, geven je techniektraining en ontvang je persoonlijke feedback van ons. Er zijn twee workshops\, namelijk voor de beginnende en gevorderde hardloper\, dus voor ieder wat wils en een passende uitdaging!\n.\n\n\nDe clinic is als het even kan buiten op een mooie plek in Helmond\, maar bij slecht weer ontvang je tijdig bericht en wijken we uit naar een sporthal (geef daarom je mobiele nummer aan ons door bij de aanmelding\, zodat we je tijdig kunnen informeren). De definitieve locatie wordt tijdig gedeeld met alle deelnemers.\n.\n\n\n\nBen jij er ook bij? DE GEHELE OPBRENGST GAAT NAAR Stichting Kinderen Kankervrij (KiKa)!\n\n.\n\n\nKLIK HIER om Kimberly’s actie voor Run for KiKa te steunen en MELD JE GRATIS AAN! \n\n\n\n\n.\nLoop met ons mee en steun KiKa!
URL:https://www.challengecare.nl/evenement/gratis-hardloop-clinic-voor-kika/
LOCATION:Parkeerplaats Keizerin Marialaan 5702 NR Helmond\, Keizerin Marialaan 1\, Helmond\, Limburg\, 5702 NR\, Netherlands
ATTACH;FMTTYPE=image/jpeg:https://www.challengecare.nl/wp-content/uploads/2024/11/Kimberly-Run-for-Kika1.jpg
ORGANIZER;CN="Yamato Helmond":MAILTO:info@yamatonederland.nl
END:VEVENT
END:VCALENDAR