BEGIN:VCALENDAR
VERSION:2.0
PRODID:-//Challenge en Care - ECPv6.15.20//NONSGML v1.0//EN
CALSCALE:GREGORIAN
METHOD:PUBLISH
X-ORIGINAL-URL:https://www.challengecare.nl
X-WR-CALDESC:Evenementen voor Challenge en Care
REFRESH-INTERVAL;VALUE=DURATION:PT1H
X-Robots-Tag:noindex
X-PUBLISHED-TTL:PT1H
BEGIN:VTIMEZONE
TZID:Europe/Amsterdam
BEGIN:DAYLIGHT
TZOFFSETFROM:+0100
TZOFFSETTO:+0200
TZNAME:CEST
DTSTART:20230326T010000
END:DAYLIGHT
BEGIN:STANDARD
TZOFFSETFROM:+0200
TZOFFSETTO:+0100
TZNAME:CET
DTSTART:20231029T010000
END:STANDARD
BEGIN:DAYLIGHT
TZOFFSETFROM:+0100
TZOFFSETTO:+0200
TZNAME:CEST
DTSTART:20240331T010000
END:DAYLIGHT
BEGIN:STANDARD
TZOFFSETFROM:+0200
TZOFFSETTO:+0100
TZNAME:CET
DTSTART:20241027T010000
END:STANDARD
BEGIN:DAYLIGHT
TZOFFSETFROM:+0100
TZOFFSETTO:+0200
TZNAME:CEST
DTSTART:20250330T010000
END:DAYLIGHT
BEGIN:STANDARD
TZOFFSETFROM:+0200
TZOFFSETTO:+0100
TZNAME:CET
DTSTART:20251026T010000
END:STANDARD
END:VTIMEZONE
BEGIN:VEVENT
DTSTART;TZID=Europe/Amsterdam:20240911T193000
DTEND;TZID=Europe/Amsterdam:20240911T210000
DTSTAMP:20260421T103540
CREATED:20240807T213527Z
LAST-MODIFIED:20240910T104336Z
UID:7751-1726083000-1726088400@www.challengecare.nl
SUMMARY:Info avond Ayurveda WOENSDAG 11 sept. 2024
DESCRIPTION:Heb jij (een van) de onderstaande vragen\, ben je gewoon nieuwsgierig naar de Ayurveda of wil je altijd op de hoogte blijven van wat je aan je eigen gezondheid en geluk kunt verbeteren?\n Wat kan Ayurveda voor mij(n klachten) betekenen?\n Wat kan Ayurveda voor mijn gezondheid betekenen?\n Wat kan Ayurveda bijdragen aan mijn geluk en ontwikkeling?\n Wat kan ik zelf thuis met Ayurveda doen?\n Waar komt Ayurveda vandaan?\n Is Ayurveda ook (iets) voor mij? \nMaak dan zéker even een uurtje vrij en meld je gratis en geheel vrijblijvend aan voor deze gezellige en van A tot Z interessante en inspirerende info avond\, waar je onder het genot van bijpassende\, heerlijke Ayurvedische thee\, biologische koffie of verfrissende drank met wat lekkers volledig geïnformeerd wordt over de ins\, outs en mogelijkheden van de Ayurveda. Ayurveda is een door de WHO (Wereldgezondheidsorganisatie) erkende vorm van natuurgeneeskunde en wordt ook wel de eeuwenoude levenswijsheid voor gezondheid en geluk genoemd. \nAls je huiswaarts gaat weet jij met zekerheid precies wat dit inhoudt\, wat je ermee kunt en wat de Ayurveda voor jou kan betekenen. Mochten er aan het einde van de presentatie die er deze avond gegeven wordt toch nog vragen zijn\, dan kun je deze achteraf in de groep of aansluitend ook nog persoonlijk stellen. \nAfsluitend kun je als je wil een kijkje nemen in onze praktijkruimte\, als je daar nog nooit geweest bent en ontvang je een leuke constitutietest voor thuis om je persoonlijke Ayurvedische doshatype mee te bepalen (meer info hierover ontvang je tijdens de info avond). \nJe bent van harte welkom!\nSamen komen is altijd gezellig en leuk. Meld je wel (beiden) even aan\, zodat we weten dat er genoeg ruimte is voor iedereen en we de spijs en drank kunnen voorbereiden. \nBij voorbaat dank! \n. \nDit is het programma van de avond:\nInloop: vanaf 19:00u\nStart: vanaf 19:30u\nVragenronde: ca 20:30u\nAfronding: ca 20:45u\nDeuren sluiten: 21:00u \nMet hartelijke groet\,\nNamaskar \n \nBianca Coenen\nAyurveda (Massage) Therapeute / Life(style) Coach / Natural Healer\nChallenge&Care \nPS: Heb je vragen vooraf? Stel ze gerust! Stuur ze per mail naar challengecare@ziggo.nl of bel (088) 505 55 50. \nPPS: Onze ruimte is rolstoelvriendelijk! \nTot gauw!\n 
URL:https://www.challengecare.nl/evenement/info-avond-ayurveda/
LOCATION:Groepsruimte Praktijk Challenge&Care\, Winkelweg 23A\, POSTERHOLT\, 6061 AD\, Nederland
ATTACH;FMTTYPE=image/jpeg:https://www.challengecare.nl/wp-content/uploads/2024/08/CC-Site-event-info-avond-Ayurveda-1-1.jpg
END:VEVENT
BEGIN:VEVENT
DTSTART;TZID=Europe/Amsterdam:20240913T193000
DTEND;TZID=Europe/Amsterdam:20240913T210000
DTSTAMP:20260421T103540
CREATED:20240807T214413Z
LAST-MODIFIED:20240910T102812Z
UID:7765-1726255800-1726261200@www.challengecare.nl
SUMMARY:Info avond Ayurveda VRIJDAG 13 sept. 2024
DESCRIPTION:Heb jij (een van) de onderstaande vragen\, ben je gewoon nieuwsgierig naar de Ayurveda of wil je altijd op de hoogte blijven van wat je aan je eigen gezondheid en geluk kunt verbeteren?\n Wat kan Ayurveda voor mij(n klachten) betekenen?\n Wat kan Ayurveda voor mijn gezondheid betekenen?\n Wat kan Ayurveda bijdragen aan mijn geluk en ontwikkeling?\n Wat kan ik zelf thuis met Ayurveda doen?\n Waar komt Ayurveda vandaan?\n Is Ayurveda ook (iets) voor mij? \nMaak dan zéker even een uurtje vrij en meld je gratis en geheel vrijblijvend aan voor deze gezellige en van A tot Z interessante en inspirerende info avond\, waar je onder het genot van bijpassende\, heerlijke Ayurvedische thee\, biologische koffie of verfrissende drank met wat lekkers volledig geïnformeerd wordt over de ins\, outs en mogelijkheden van de Ayurveda. Ayurveda is een door de WHO (Wereldgezondheidsorganisatie) erkende vorm van natuurgeneeskunde en wordt ook wel de eeuwenoude levenswijsheid voor gezondheid en geluk genoemd. \nAls je huiswaarts gaat weet jij met zekerheid precies wat dit inhoudt\, wat je ermee kunt en wat de Ayurveda voor jou kan betekenen. Mochten er aan het einde van de presentatie die er deze avond gegeven wordt toch nog vragen zijn\, dan kun je deze achteraf in de groep of aansluitend ook nog persoonlijk stellen. \nAfsluitend kun je als je wil een kijkje nemen in onze praktijkruimte\, als je daar nog nooit geweest bent en ontvang je een leuke constitutietest voor thuis om je persoonlijke Ayurvedische doshatype mee te bepalen (meer info hierover ontvang je tijdens de info avond). \nJe bent van harte welkom!\nSamen komen is altijd gezellig en leuk. Meld je wel (beiden) even aan\, zodat we weten dat er genoeg ruimte is voor iedereen en we de spijs en drank kunnen voorbereiden. \nBij voorbaat dank! \n. \nDit is het programma van de avond:\nInloop: vanaf 19:00u\nStart: vanaf 19:30u\nVragenronde: ca 20:30u\nAfronding: ca 20:45u\nDeuren sluiten: 21:00u \nMet hartelijke groet\,\nNamaskar \n \nBianca Coenen\nAyurveda (Massage) Therapeute / Life(style) Coach / Natural Healer\nChallenge&Care \nPS: Heb je vragen vooraf? Stel ze gerust! Stuur ze per mail naar challengecare@ziggo.nl of bel (088) 505 55 50. \nPPS: Onze ruimte is rolstoelvriendelijk! \nTot gauw!
URL:https://www.challengecare.nl/evenement/info-avond-ayurveda-vrijdag-13-sept-2024/
LOCATION:Groepsruimte Praktijk Challenge&Care\, Winkelweg 23A\, POSTERHOLT\, 6061 AD\, Nederland
ATTACH;FMTTYPE=image/jpeg:https://www.challengecare.nl/wp-content/uploads/2024/08/CC-Site-event-info-avond-Ayurveda-.jpg
END:VEVENT
BEGIN:VEVENT
DTSTART;TZID=Europe/Amsterdam:20240928T133000
DTEND;TZID=Europe/Amsterdam:20240928T170000
DTSTAMP:20260421T103540
CREATED:20230920T183127Z
LAST-MODIFIED:20240924T202321Z
UID:7156-1727530200-1727542800@www.challengecare.nl
SUMMARY:Mini Course Ayurveda * Class 1 *
DESCRIPTION:Bepaal je ideale leefstijl aan de hand van je persoonlijke doshatype!\nBen jij op zoek naar een leuke\, effectieve\, alternatieve en natuurlijke manier om iets aan je klachten en/of gezondheid te verbeteren? Dan ben je niet de enige. Ook héél goed van je! Onderzoeken tonen namelijk aan dat je maar liefst 80-90% van je gezondheid zelf kunt beïnvloeden. Dat is nu belangrijker dan ooit! Op veler verzoek is op basis van dit gegeven is deze Mini Course Ayurveda op maat samengesteld en alsmaar verbeterd. \nDe levens- en geneeswijze Ayurveda biedt je namelijk vele handreikingen om op geheel natuurlijke wijze aan jouw optimale gezondheid te werken. Het is een eeuwenoude Indiase levenswijze die\, op moderne wijze toegepast\, ook nu nog ontzettend veel voor je kan betekenen. Het wordt dan ook ook wel de wijsheid voor gezondheid en geluk genoemd. \nDe eerste vedische geschriften zijn meer dan 5.000 jaar geleden aangetroffen en fungeren nog steeds als basis voor de huidige\, reguliere geneeskunst. Daarnaast heeft Ayurveda als holistisch systeem\, veel méér te bieden\, dat we ook jou graag aanreiken. Deze waardevolle\, uiterst toepasbare kennis heeft zich inmiddels languit bewezen en wordt je tot op heden niet via de reguliere geneeskunde aangereikt. Toch sluit deze hier haarfijn op aan. Sterker nog\, de Ayurveda gaat waar nodig hand in hand met reguliere geneeskunde! Je kunt  er zoveel meer en zélf mee doen en bereiken! \nNa het volgen van deze Mini Course heb jij alle informatie en kennis over jezelf en de Ayurveda om hiermee op een praktische en effectieve manier te werken aan jouw ideale leefstijl en een lang en gelukkig leven. \nDit is wat je allemaal met zekerheid ontvangt als je deelneemt:\n\nPraktische informatie en tips over de achtergrond en basis beginselen van de Ayurveda;\nDoshatesten om je persoonlijke ayurvedische constitutietype te bepalen;\nOp maat passende leefstijl- en selfcare tips;\nVerzamelmap inclusief notebook met cursus- en informatiemateriaal;\nE-books van alle lessen waarvoor je je hebt aangemeld;\nHuiswerkopdrachten;\nMijn onverdeelde aandacht\, energie\, enthousiasme\, passie en inspiratie!\n\nAls je daarnaast óók nog kiest voor de Ayurvedische leefstijlcoaching\, dan ontvang je tevens:\n\nPersoonlijke adviezen en tips op maat;\nWekelijkse opdrachten\, tips en reminders;\nSupport bij hobbels en problemen;\nEen stok achter de deur;\nEen vraagbaak;\nPersoonlijke begeleiding en coaching gedurende 1 maand na de gekozen class\nBij het volgen van alle classes\, kun je een kwartaal je voordeel doen met mijn ondersteuning en support en daarmee je nieuwe\, gezonde leefstijl\, voorgoed verankeren in je nieuwe leven.\n\nDe vijf elementen en drie dosha’s\nAyurveda heeft als doel het lichaam weer in de natuurlijke balans terug te brengen. Aandoeningen (oftewel afwijkingen van deze natuurlijke balans) worden behandeld op basis van de vijf elementen (ether\, lucht\, vuur\, water en aarde) en de drie dosha’s Vata\, Pitta en Kapha (ook wel constitutietypes genoemd). \nNa een aantal geslaagde Workshops Ayurveda\, blijven mensen aangeven meer te willen weten over deze steeds populairder wordende levens- en geneeswijze en hier echt mee aan de slag te gaan. Dat heeft ons geïnspireerd en uitgenodigd een Mini Course Ayurveda te ontwikkelen\, die je in drie opvolgende delen kunt volgen\, maar ook apart. De eerste Mini Course was een succes en worden ze alsmaar in verbeterde vorm voortgezet. \nAyurvedische leefstijlcoaching\nHet jezelf eigen maken van een leefstijlverandering\, duurt volgens onderzoeken een maand. Daarom bieden we bij de classes Ayurvedische leefstijlcoaching aan. Dat houdt in dat je gedurende de maand na de class reminders en opdrachten ontvangt\, ik een stok achter de deur en je vraagbaak ben om te zorgen dat je het optimale leereffect uit de classes haalt\, je de stof en principes herhaalt en er praktisch mee aan de slag gaat in je drukke bestaan. \nIk motiveer je\, stimuleer en inspireer je en je kunt mij me terecht met al je vragen en problemen op dit vlak\, zodat je niet vast loopt\, maar alle hobbels op je pad overwint. Ook ontvang je van mij persoonlijke advies en kan ik hiermee een stukje maatwerk voor je leveren\, waar je je hele leven profijt van hebt. Zo haal je het meeste uit elke class van je keuze en zorg je ervoor dat je ook praktisch daadwerkelijk de nieuwe leefstijl doorvoert. \nDuurzaam resultaat\nOm deze leefstijlveranderingen vervolgens structureel te maken\, is het nodig hiermee 2 tot 3 maanden aan de slag te gaan met een stapsgewijze opbouw en ondersteuning. Daarom bestaat het programma uit 3 classes gedurende een periode van 3 maanden en ontvang je daarbij desgewenst ayurvedische leefstijlcoaching. Dit hoef je echter niet te doen. Je kunt ook zonder ondersteuning tussentijds elke class los van elkaar volgen naar wens. \nEen duurzaam resultaat is echter pas gegarandeerd als je voor een periode van 2-3 maanden structureel met de kennis en informatie uit de Mini Course Ayurveda aan de slag gaat. Elke class is echter waardevol op zich\, weten we vanuit de reacties van voorgaande deelnemers. \nKIJK HET FILMPJE VOOR MIJN PERSOONLIJKE BOODSCHAP AAN JOU:\nhttps://www.challengecare.nl/wp-content/uploads/2024/04/CC-Mini-Course-Ayurveda-‐-algmeen.mp4\n.\n  \nMet een 9\,4 beoordeeld!\nVoorgaande deelnemers beoordeelden deze mini course gemiddeld met een 9\,4 in de reviews.\nDit is wat ze zoal zeiden!:\n  \n“Ik kan niet anders dan je een 10 geven. De sfeer bij jou is altijd zó fijn met altijd iets lekkers erbij…” \n“Je bent duidelijk\, alles is bespreekbaar en je neemt de tijd voor ons…” \n“Altijd zo heerlijk enthousiast\, betrokkenheid bij iedereen en een persoonlijke touch. Ik kijk uit naar class 2 en 3…” \n“Heel gezellige\, sfeervolle locatie. Jij bent begripvol en heel duidelijk. De uitleg in Jip en Janneke taal vond ik erg goed…” \n  \nHieronder tref je meer informatie aan over de inhoud van de Mini Course Ayurveda en hoe je je daarvoor aan kunt melden:\n  \n1. Mini Course Ayurveda Class 1: Basics & Dosha’s\nDatum: zaterdag 28 september 2024\nTijd: 13:30 – 17:00u \nProgramma: Bepaal je persoonlijke dosha- oftewel constitutietype en de daarbij passende ideale leefstijl\, dagritme\, voeding- en verzorgingstips aan de hand van een uitgebreide doshatest. Tijdens Class 1 worden de basisdosha’s vata\, pitta en kapha in het algemeen behandeld\, leer je de testresultaten te interpreteren en hoe je hiermee kunt werken. Een must om mee te starten dus en met zekerheid een belangrijke basis voor de rest van je leven. \nWe starten met een korte introductie en een informatief kennisblok over de achtergrond en basis van de Ayurveda\, gevolgd door een thee-/koffiepauze\, voorzien van biologisch gebak. Na de pauze volgt een ontspannende\, enerverende meditatie waarin de 5 elementen terug komen en waardoor onze levensenergie sneller gaat stromen. Daarna gaan we verder met het praktische deel: de doshatesten\, interpretatie van de testresultaten\, persoonlijke tips en de afsluiting. \n2. Mini Course Ayurveda Class 2: Ayurvedische eetregels\nDatum: zaterdag 2 november 2024\nTijd: 13:30 – 17:00u \nProgramma: Leer de 22 eetregels! De Ayurveda kent vele eetregels (waar je ook losjes mee om kunt gaan en waarmee je zo toch een goed resultaat kunt behalen!). Tijdens Class 2 leer je alles over de 22 hoofd eetregels van de Ayurveda en hoe je hier praktisch mee kunt werken. Je krijgt zo een hele andere kijk op voeding dan in de reguliere voedingsschijf van 5 wordt aangereikt. De 22 eetregels zijn niet streng en bevatten daarentegen veel nuttige informatie en tips. Je kunt het zien als richtlijnen die je helpen om gezonder te leven\, te begrijpen wat je eet\, te voelen wat dit met je doet\, daardoor betere keuzes te maken en hiermee op een slimme manier aan de slag te gaan. Je kunt dit zien als een verrijking op je eetpatroon die vruchten af zal werpen. Ook voor mensen die al langere tijd strenge diëten volgen om af te vallen\, ervaren de 22 eetregels als een verademing. Maar ook voor ieder ander zijn deze 22 Ayurvedische eetregels essentieel om in de dagelijkse routine mee te nemen\, als je voor een gezond\, gelukkig en lang\, maar ook gezellig leven kiest. \nDaarnaast wordt ook de Ayurvedische klok behandelt. Elke dosha heeft namelijk een specifiek dagdeel in de dag\, dat deze een prominente rol speelt. Door hier rekening mee te houden\, beweeg je mee met het ritme van de dag en brengt daarmee je bioritme in balans. \n3. Mini Course Ayurveda Class 3: Ayurveda en voeding\nDatum: zaterdag 30 november 2024\nTijd: 13:30 – 17:00u \nProgramma: De 6 Ayurvedische smaken en meer. Ayurveda gaat uit van 6 categorieën smaken in onze voeding die we ook in de diverse onderdelen van de tong terug zien komen. Een gebalanceerd voedingspatroon dat goed verteerbaar is\, is opgebouwd uit deze 6 smaken. Het is dus belangrijk te weten hoe je deze 6 smaken in praktische zin mee kunt nemen in het bereiden van je voeding. Tijdens Class 3 gaan we dieper in op de 6 smaken en aanverwante wetenswaardigheden\, zoals combinaties voedingsmiddelen die je beter niet met elkaar kunt combineren. Je keert dus met mooie basiskennis huiswaarts om te integreren in jouw optimale voedingspatroon\, waarmee je een belangrijke bijdrage levert aan de gezondheid en kwaliteit van leven van jou en je gezin. Deze class vormt tot slot een mooie en interessante aanvulling en verdieping op de 22 eetregels. \nAlle classes worden voorzien van heerlijke\, biologische spijs en drank en toepasselijke Ayurvedische theesoorten. Daarnaast ontvang je tips en is er de mogelijkheid tot het testen van dosha gerelateerde producten\, die je indien gewenst ook kunt aanschaffen en/of als proef ontvangt voor thuis. Een korte meditatie ter bewustwording en ontspanning is ook in iedere class opgenomen. \nMet deze Mini Course leg je een onmisbaar fundament voor jouw toekomstige gezondheid! \nOnze werkwijze\, aanpak en kennis is inmiddels niet alleen onderschreven door vele tevreden cursisten\, maar ook door Ayurveda Teachers\, Reguliere (Arbo) Artsen\, Therapeuten en diverse Zorgprofessionals op hoog niveau!  Zo gaf een Arts als oud deelnemer hierover aan: “Geraffineerd hoe je deze informatie zo praktisch\, duidelijk en laagdrempelig aanreikt!”\n.\nPraktisch:\nElke Class is ook apart en los van elkaar te volgen. Je kunt je dus voor één specifieke Class opgeven (voor € 69 per Class)\, of voordeliger de hele Mini Course van 3 delen (voor geen € 207 maar slechts € 177\, dus met bijna 15% KORTING voor slechts € 59\,00!) volgen en daarmee je leefstijl en voeding een echte upgrade geven. Ze zijn bedoeld voor iedereen die ermee aan de slag wil en er is geen vooropleiding of prekennis vereist. \nWil je mijn ongebreidelde support en onvoorwaardelijke steun ontvangen? Boek dan ook de Ayurvedische Leefstijlcoaching erbij! Ik sta te popelen om met je aan de slag te gaan en vind het telkens een grote eer je op dit pad te mogen begeleiden! Voor € 129 ben ik de hele maand jouw persoonlijke Ayurvedische leefstijlcoach en als je gelijk voor mijn begeleiding voor 3 maanden kiest\, dan ontvang je voor je commitment bijna 25% KORTING en betaal je slechts iets meer dan € 99/maand! \nJe zult versteld staan van de hoeveelheid informatie en kennis die je je zo op een leuke en laagdrempelige manier eigen kunt maken en de resultaten op het gebied van je gezondheid\, vitaliteit en energie die je hiermee gaat behalen op een simpele manier. Je leert veel over jezelf en hoe je de voor jou ideale leefstijl en -ritme kunt hanteren. \nAlles is verder voor je aanwezig. De belangrijkste informatie van de dag ontvang je tijdens de class op papier en achteraf ook digitaal voor thuis. \nLocatie:\nDe Classes vinden alle drie plaats in de groepsruimte van Challenge&Care\, gelegen aan de Winkelweg 23A te Posterholt. \nDit unieke programma wordt je aangeboden door Ayurveda (Massage) Therapeute\, Life(style) Challenging Coach Bianca Coenen. Zij heeft dit programma op maat samengesteld op basis van klantverzoeken\, jarenlange ervaring en opleiding om de Ayurveda laagdrempelig en toepasbaar te maken voor iedereen\, zoals deze ook bedoeld is. \n \nIk kijk ernaar uit je te ontvangen! \nBianca Coenen \nNamaskar\,  \nChallenge&Care \n  \nLET OP!:\nDeze Mini Course en aparte Classes zijn bedoeld om jou in je privé en gezinssituatie een goede basis mee te geven waarmee je met Ayurveda aan je eigen gezondheid en vitaliteit kunt werken. De classes van deze minicourse vormen echter onvoldoende achtergrond om er andere mensen op therapeutische basis mee te adviseren en behandelen. Je kunt echter altijd bij ons terecht met specifieke vragen en/of (gezondheids)problemen en mensen desgewenst naar ons of een Ayurvedische Arts doorsturen.\n  \nNB: Na betaling is je aanmelding definitief! Afmeldingen worden niet meer gerestitueerd. Bij afmeldingen met een geldige reden (onmacht) wordt je een nieuwe cursusdatum aangeboden. Indien er voor dit evenement geen nieuwe cursusdatum voorhanden is\, wordt er bij afmeldingen met geldige reden binnen 48 uur niets gerestitueerd\, binnen 1 week 25%\, binnen 2 weken 50% en binnen 4 weken 75%. Wij vragen hiervoor je begrip. 
URL:https://www.challengecare.nl/evenement/mini-course-ayurveda-class-1/
LOCATION:Groepsruimte Praktijk Challenge&Care\, Winkelweg 23A\, POSTERHOLT\, 6061 AD\, Nederland
ATTACH;FMTTYPE=image/jpeg:https://www.challengecare.nl/wp-content/uploads/2023/08/dreamstime_m_102178165.jpg
ORGANIZER;CN="Challenge&Care":MAILTO:challengecare@ziggo.nl
END:VEVENT
END:VCALENDAR